BEGIN:VCALENDAR
VERSION:2.0
PRODID:-//wp-events-plugin.com//7.2.3.1//EN
BEGIN:VEVENT
UID:7467@myasthenia.org
DTSTART;TZID=America/New_York:20250823T100000
DTEND;TZID=America/New_York:20250823T120000
DTSTAMP:20250818T130224Z
URL:https://myasthenia.org/events/hamptons-road-support-group-2025-08-16/
SUMMARY:DMV (Delaware\, Maryland\, Virginia) Support Group
DESCRIPTION:This group encompasses northern Virginia\, as well as Delaware\
 , West Virginia\, and Maryland.\n\nWe will be having a special "catch up" 
 meeting for anyone who may have missed the meeting on 08/16/25\n\nMeeting 
 Date: Saturday\, Aug 23\, 10am - noon\n\nFor more info and the zoom link\,
  please contact dmvmyastheniagravis@gmail.com
CATEGORIES:Support Group Meeting
END:VEVENT
BEGIN:VTIMEZONE
TZID:America/New_York
X-LIC-LOCATION:America/New_York
BEGIN:DAYLIGHT
DTSTART:20250309T030000
TZOFFSETFROM:-0500
TZOFFSETTO:-0400
TZNAME:EDT
END:DAYLIGHT
END:VTIMEZONE
END:VCALENDAR