BEGIN:VCALENDAR
VERSION:2.0
PRODID:-//wp-events-plugin.com//7.2.3.1//EN
BEGIN:VEVENT
UID:6@myasthenia.org
DTSTART;TZID=America/New_York:20240518T170000
DTEND;TZID=America/New_York:20240518T190000
DTSTAMP:20241028T210108Z
URL:https://myasthenia.org/events/mg-walk-boston-2024-05-18/
SUMMARY:MG Walk Boston
DESCRIPTION: MG Walks raise critical funds for MG research\, as well as edu
 cation and support resources for those affected by MG. When you join a wal
 k\, you&rsquo\;ll experience a profound sense of community\, standing shou
 lder to shoulder with other #MGWarriors and their supporters. No matter yo
 ur mobility or ability\, there&rsquo\;s a way to participate and raise awa
 reness of this devistating rare disease.   Register Today and Make a Diffe
 rence You can sign up as an individual walker\, join an existing team or s
 tart your own. Once registered\, all that&#039\;s left is to personalize y
 our fundraising page\, share your connection to MG\, and tell your story o
 f why you&rsquo\;re walking for A World Without MG. Then invite your netwo
 rk to support you! Whether you choose to walk with us\, join a team\, or m
 ake a gift\, your contribution brings us one step closer to a world withou
 t MG. Let&#039\;s walk together!   MG Walk - Boston Saturday\, May 18\, 20
 24 Registration opens at 9:30 AM Walk begins at 10:00 AM  Christian A. Her
 ter Park 1175 Soldiers Field Rd.  Boston\, MA 02134   More information and
  registration: myasthenia.org/Events/MG-Walk 
ATTACH;FMTTYPE=image/jpeg:https://myasthenia.org/wp-content/uploads/Portal
 s/0/EasyDNNNews/757/Mg-Walks-logo-3.png
CATEGORIES:Events,MG Walks
END:VEVENT
BEGIN:VTIMEZONE
TZID:America/New_York
X-LIC-LOCATION:America/New_York
BEGIN:DAYLIGHT
DTSTART:20240310T030000
TZOFFSETFROM:-0500
TZOFFSETTO:-0400
TZNAME:EDT
END:DAYLIGHT
END:VTIMEZONE
END:VCALENDAR