BEGIN:VCALENDAR
VERSION:2.0
PRODID:-//wp-events-plugin.com//7.2.3.1//EN
BEGIN:VEVENT
UID:8166@myasthenia.org
DTSTART;TZID=America/New_York:20280205T110000
DTEND;TZID=America/New_York:20280205T110000
DTSTAMP:20260203T164647Z
URL:https://myasthenia.org/events/northeastern-pa-mg-support-group-2028-02
 -05/
SUMMARY:Northeastern\, PA MG Support Group
DESCRIPTION:This group meets in person the 1st Saturday of the month\, six 
 times throughout the year (February\, April\, June\, August\, October and 
 December) at:\n\nGrande Pizza and Family Restaurant\, 4200 Birney Avenue\,
  Moosic\, Pennsylvania 18507\n\nFor more information\, please contact:\nVe
 ra Krewsun\n570-687-6009\nbeepkrew@gmail.com\n&nbsp\;
CATEGORIES:Support Group Meeting
END:VEVENT
BEGIN:VTIMEZONE
TZID:America/New_York
X-LIC-LOCATION:America/New_York
BEGIN:STANDARD
DTSTART:20271107T010000
TZOFFSETFROM:-0400
TZOFFSETTO:-0500
TZNAME:EST
END:STANDARD
END:VTIMEZONE
END:VCALENDAR