BEGIN:VCALENDAR
VERSION:2.0
PRODID:-//wp-events-plugin.com//7.2.3.1//EN
BEGIN:VEVENT
UID:8369@myasthenia.org
DTSTART;TZID=America/New_York:20270902T190000
DTEND;TZID=America/New_York:20270902T200000
DTSTAMP:20260309T191338Z
URL:https://myasthenia.org/events/st-petersburg-fl-mg-support-group-2026-0
 5-07-2026-06-04-2026-07-02-2026-08-06-2026-09-03-2026-10-01-2026-11-05-202
 6-12-03-2027-01-07-2027-02-04-2027-03-04-2027-04-01-2027-05-06-2027-06-0-0
 5-2027-09-02/
SUMMARY:St. Petersburg\, FL MG Support Group
DESCRIPTION:This group meets on the 1st Thursday of the month via Zoom. The
  meeting starts at 7pm.\n\nIf you would like information on how to join\, 
 please email Kathi at stpetemggroup@gmail.com\n\n&nbsp\;
CATEGORIES:Support Group Meeting
END:VEVENT
BEGIN:VTIMEZONE
TZID:America/New_York
X-LIC-LOCATION:America/New_York
BEGIN:DAYLIGHT
DTSTART:20270314T030000
TZOFFSETFROM:-0500
TZOFFSETTO:-0400
TZNAME:EDT
END:DAYLIGHT
END:VTIMEZONE
END:VCALENDAR