BEGIN:VCALENDAR
VERSION:2.0
PRODID:-//wp-events-plugin.com//7.2.3.1//EN
BEGIN:VEVENT
UID:7917@myasthenia.org
DTSTART;TZID=America/New_York:20250930T130000
DTEND;TZID=America/New_York:20250930T130000
DTSTAMP:20251006T165316Z
URL:https://myasthenia.org/events/webinar-supporting-the-mg-community-fina
 ncial-assistance-programs/
SUMMARY:Webinar: Supporting the MG Community -  Financial Assistance Progra
 ms
DESCRIPTION:Tuesday\, September 30\, 2025 1:00 PM Eastern Time / 10:00 AM P
 acific Time\nPresenters:\n\nStephanie Marshall – Director of Patient Adv
 ocacy\, the Assistance Fund \n\nJennifer Noonan\, MSN\, RN – VP\, Clini
 cal Strategy &amp\; Patient Engagement\, Accessia Health   \nManaging m
 yasthenia gravis can bring financial challenges along with many other laye
 rs of complexity. Join the Myasthenia Gravis Foundation of America\, Acces
 sia Health\, and The Assistance Fund (TAF) for this webinar to learn about
  charitable co-pay and financial assistance programs\, practical steps for
  accessing support\, and resources to help reduce out-of-pocket costs. \n\
 nRegister\nAfter registering\, you will receive a confirmation email conta
 ining information about joining the webinar. 
ATTACH;FMTTYPE=image/jpeg:https://myasthenia.org/wp-content/uploads/2025/0
 9/FinancialAssistance-Thumbnail-scaled.png
CATEGORIES:Events
END:VEVENT
BEGIN:VTIMEZONE
TZID:America/New_York
X-LIC-LOCATION:America/New_York
BEGIN:DAYLIGHT
DTSTART:20250309T030000
TZOFFSETFROM:-0500
TZOFFSETTO:-0400
TZNAME:EDT
END:DAYLIGHT
END:VTIMEZONE
END:VCALENDAR